BEGIN:VCALENDAR
VERSION:2.0
PRODID:-//eventon.com NONSGML v1.0//EN
BEGIN:VEVENT
UID:69ebd84f4723d
DTSTAMP:20260424T235335
DTSTART:20250222T190000Z
DTEND:20250222T215000Z
TZID:Asia/Jerusalem
LOCATION:משכן לאומנויות נס ציונה רחוב ישראל שמיד 26 נס ציונה
SUMMARY:שירי אזנבור - נס ציונה
DESCRIPTION: שירי אזנבור - נס ציונה\nhttps://latset.co.il/events/%d7%a9%d7%99%d7%a8%d7%99-%d7%90%d7%96%d7%a0%d7%91%d7%95%d7%a8-%d7%a0%d7%a1-%d7%a6%d7%99%d7%95%d7%a0%d7%94/
URL:https://latset.co.il/events/%d7%a9%d7%99%d7%a8%d7%99-%d7%90%d7%96%d7%a0%d7%91%d7%95%d7%a8-%d7%a0%d7%a1-%d7%a6%d7%99%d7%95%d7%a0%d7%94/
END:VEVENT
END:VCALENDAR